BEGIN:VCALENDAR
VERSION:2.0
PRODID:icalendar-ruby
CALSCALE:GREGORIAN
METHOD:PUBLISH
BEGIN:VEVENT
DTSTAMP:20260424T162252Z
UID:10-218533@dodgecenterumc.org
DTSTART:20260520T220000Z
DTEND:20260520T230000Z
CLASS:PUBLIC
CREATED:20260419T141830
DESCRIPTION:
LAST-MODIFIED:20260419T141830
LOCATION:
SUMMARY:Community Dinner
URL;VALUE=URI:https://dodgecenterumc.org/events/community-dinner/2026-05-20
ATTACH;FILENAME=Generic dinner flyer.jpg;FMTTYPE=image/jpeg:https://dq5pwpg
 1q8ru0.cloudfront.net/2025/12/01/20/47/22/fbf8b606-5219-406c-900d-bbc57ee6
 fa58/Generic%20dinner%20flyer.jpg
END:VEVENT
END:VCALENDAR
