BEGIN:VCALENDAR
VERSION:2.0
PRODID:icalendar-ruby
CALSCALE:GREGORIAN
METHOD:PUBLISH
BEGIN:VEVENT
DTSTAMP:20260424T170539Z
UID:13-218573@dodgecenterumc.org
DTSTART:20260516T143000Z
DTEND:20260516T153000Z
CLASS:PUBLIC
CREATED:20260419T142623
DESCRIPTION:
LAST-MODIFIED:20260419T142623
LOCATION:
SUMMARY:WWAP
URL;VALUE=URI:https://dodgecenterumc.org/events/wwap/2026-05-16
ATTACH;FILENAME=WWAP pic.jpg;FMTTYPE=image/jpeg:https://dq5pwpg1q8ru0.cloud
 front.net/2025/05/03/13/50/59/54b1190b-380b-411e-85d7-f64706cfe9c0/WWAP%20
 pic.jpg
END:VEVENT
END:VCALENDAR
